BEGIN:VCALENDAR
VERSION:2.0
PRODID:-//https://www.appleofhiseye.org//NONSGML kigkonsult.se iCalcreator 
 2.29.29//
CALSCALE:GREGORIAN
METHOD:PUBLISH
UID:ed70f85a-763f-4521-9d2c-e7d62c08367b
X-WR-CALNAME:JCal Pro Calendar
X-WR-CALDESC:Your online events calendar
X-WR-TIMEZONE:UTC
BEGIN:VTIMEZONE
TZID:UTC
END:VTIMEZONE
BEGIN:VTIMEZONE
TZID:America/New_York
BEGIN:STANDARD
TZNAME:EST
DTSTART:20251102T020000
TZOFFSETFROM:-0400
TZOFFSETTO:-0500
RDATE:20261101T020000
END:STANDARD
BEGIN:DAYLIGHT
TZNAME:EDT
DTSTART:20260308T020000
TZOFFSETFROM:-0500
TZOFFSETTO:-0400
RDATE:20270314T020000
END:DAYLIGHT
END:VTIMEZONE
BEGIN:VEVENT
UID:hebcal-20230706-42e340b773ec5cd3169088ba90bc5cef
DTSTAMP:20260422T134542Z
CATEGORIES:Jewish Calendar
DESCRIPTION:Fast commemorating breaching of the walls of Jerusalem before t
 he destruction of the Second Temple<br />\nTorah: Exodus 32:11-34:10<br />
 \n<br />\nhttps://www.hebcal.com/holidays/tzom-tammuz-2023?utm_source=js&u
 tm_medium=icalendar
DTSTART;TZID=America/New_York:20230705T200000
DTEND;TZID=America/New_York:20230706T200000
SUMMARY:Tzom Tammuz
URL:https://www.appleofhiseye.org/resources-2/jewish-calendar/month-view/41
 -jewish-calendar/1825-tzom-tammuz
X-ALT-DESC;FMTTYPE=TEXT/HTML:Fast commemorating breaching of the walls of J
 erusalem before the destruction of the Second Temple<br />\nTorah: Exodus 
 32:11-34:10<br />\n<br />\nhttps://www.hebcal.com/holidays/tzom-tammuz-202
 3?utm_source=js&utm_medium=icalendar
END:VEVENT
END:VCALENDAR
