BEGIN:VCALENDAR
VERSION:2.0
PRODID:-//https://www.appleofhiseye.org//NONSGML kigkonsult.se iCalcreator 
 2.29.29//
CALSCALE:GREGORIAN
METHOD:PUBLISH
UID:5ad1649c-8cb8-44d2-915c-c0d63ca04764
X-WR-CALNAME:JCal Pro Calendar
X-WR-CALDESC:Your online events calendar
X-WR-TIMEZONE:UTC
BEGIN:VTIMEZONE
TZID:UTC
END:VTIMEZONE
BEGIN:VTIMEZONE
TZID:America/New_York
BEGIN:STANDARD
TZNAME:EST
DTSTART:20251102T020000
TZOFFSETFROM:-0400
TZOFFSETTO:-0500
RDATE:20261101T020000
END:STANDARD
BEGIN:DAYLIGHT
TZNAME:EDT
DTSTART:20260308T020000
TZOFFSETFROM:-0500
TZOFFSETTO:-0400
RDATE:20270314T020000
END:DAYLIGHT
END:VTIMEZONE
BEGIN:VEVENT
UID:hebcal-20200107-2a28f56c14aefbdbc011cd9cfe62476d
DTSTAMP:20260420T080442Z
CATEGORIES:Jewish Calendar
DESCRIPTION:Fast commemorating the siege of Jerusalem<br />\nTorah: Exodus 
 32:11-34:10<br />\n<br />\nhttps://www.hebcal.com/holidays/asara-btevet-20
 20?utm_source=js&utm_medium=icalendar
DTSTART;TZID=America/New_York:20200106T190000
DTEND;TZID=America/New_York:20200107T190000
SUMMARY:Asara B'Tevet
URL:https://www.appleofhiseye.org/resources-2/jewish-calendar/month-view/41
 -jewish-calendar/1137-asara-b-tevet
X-ALT-DESC;FMTTYPE=TEXT/HTML:Fast commemorating the siege of Jerusalem<br /
 >\nTorah: Exodus 32:11-34:10<br />\n<br />\nhttps://www.hebcal.com/holiday
 s/asara-btevet-2020?utm_source=js&utm_medium=icalendar
END:VEVENT
BEGIN:VEVENT
UID:hebcal-20200107-66273107d4ac6311a72221c89876d8f8-10001
DTSTAMP:20260420T080442Z
CATEGORIES:Jewish Calendar
DTSTART;TZID=America/New_York:20200107T055200
DTEND;TZID=America/New_York:20200107T055200
SUMMARY:Fast begins
URL:https://www.appleofhiseye.org/resources-2/jewish-calendar/month-view/41
 -jewish-calendar/1136-fast-begins
END:VEVENT
BEGIN:VEVENT
UID:hebcal-20200107-c57d64c812cd6e0ab69978b2b881e5b0-10001
DTSTAMP:20260420T080442Z
CATEGORIES:Jewish Calendar
DTSTART;TZID=America/New_York:20200107T172000
DTEND;TZID=America/New_York:20200107T172000
SUMMARY:Fast ends
URL:https://www.appleofhiseye.org/resources-2/jewish-calendar/month-view/41
 -jewish-calendar/1138-fast-ends
END:VEVENT
END:VCALENDAR
