BEGIN:VCALENDAR
VERSION:2.0
PRODID:-//https://www.appleofhiseye.org//NONSGML kigkonsult.se iCalcreator 
 2.29.29//
CALSCALE:GREGORIAN
METHOD:PUBLISH
UID:bc2c9deb-4434-47ba-937e-0a76fc973e80
X-WR-CALNAME:JCal Pro Calendar
X-WR-CALDESC:Your online events calendar
X-WR-TIMEZONE:UTC
BEGIN:VTIMEZONE
TZID:UTC
END:VTIMEZONE
BEGIN:VTIMEZONE
TZID:America/New_York
BEGIN:STANDARD
TZNAME:EST
DTSTART:20251102T020000
TZOFFSETFROM:-0400
TZOFFSETTO:-0500
RDATE:20261101T020000
END:STANDARD
BEGIN:DAYLIGHT
TZNAME:EDT
DTSTART:20260308T020000
TZOFFSETFROM:-0500
TZOFFSETTO:-0400
RDATE:20270314T020000
END:DAYLIGHT
END:VTIMEZONE
BEGIN:VEVENT
UID:hebcal-20230719-bb965bc17876a4f8edf7733637585f60
DTSTAMP:20260422T151040Z
CATEGORIES:Jewish Calendar
DESCRIPTION:Beginning of new Hebrew month of Av. Av is the 5th month of the
  Hebrew year. Corresponds to July or August on the Gregorian calendar<br /
 >\n<br />\nhttps://www.hebcal.com/holidays/rosh-chodesh-av-2023?utm_source
 =js&utm_medium=icalendar
DTSTART;TZID=America/New_York:20230718T200000
DTEND;TZID=America/New_York:20230719T200000
SUMMARY:Rosh Chodesh Av
URL:https://www.appleofhiseye.org/resources-2/jewish-calendar/month-view/41
 -jewish-calendar/1831-rosh-chodesh-av
X-ALT-DESC;FMTTYPE=TEXT/HTML:Beginning of new Hebrew month of Av. Av is the
  5th month of the Hebrew year. Corresponds to July or August on the Gregor
 ian calendar<br />\n<br />\nhttps://www.hebcal.com/holidays/rosh-chodesh-a
 v-2023?utm_source=js&utm_medium=icalendar
END:VEVENT
END:VCALENDAR
