BEGIN:VCALENDAR
VERSION:2.0
PRODID:-//https://www.appleofhiseye.org//NONSGML kigkonsult.se iCalcreator 
 2.29.29//
CALSCALE:GREGORIAN
METHOD:PUBLISH
UID:7bb3b3e2-abbc-4d91-9f21-e3f6733a4f88
X-WR-CALNAME:JCal Pro Calendar
X-WR-CALDESC:Your online events calendar
X-WR-TIMEZONE:UTC
BEGIN:VTIMEZONE
TZID:UTC
END:VTIMEZONE
BEGIN:VTIMEZONE
TZID:America/New_York
BEGIN:STANDARD
TZNAME:EST
DTSTART:20251102T020000
TZOFFSETFROM:-0400
TZOFFSETTO:-0500
RDATE:20261101T020000
END:STANDARD
BEGIN:DAYLIGHT
TZNAME:EDT
DTSTART:20260308T020000
TZOFFSETFROM:-0500
TZOFFSETTO:-0400
RDATE:20270314T020000
END:DAYLIGHT
END:VTIMEZONE
BEGIN:VEVENT
UID:hebcal-20230802-720e1a9b1d68414698305ea588f67745
DTSTAMP:20260422T145012Z
CATEGORIES:Jewish Calendar
DESCRIPTION:Minor Jewish holiday of love. Observed on the 15th day of the H
 ebrew month of Av<br />\n<br />\nhttps://www.hebcal.com/holidays/tu-bav-20
 23?utm_source=js&utm_medium=icalendar
DTSTART;TZID=America/New_York:20230801T200000
DTEND;TZID=America/New_York:20230802T200000
SUMMARY:Tu B'Av
URL:https://www.appleofhiseye.org/resources-2/jewish-calendar/month-view/41
 -jewish-calendar/1842-tu-b-av
X-ALT-DESC;FMTTYPE=TEXT/HTML:Minor Jewish holiday of love. Observed on the 
 15th day of the Hebrew month of Av<br />\n<br />\nhttps://www.hebcal.com/h
 olidays/tu-bav-2023?utm_source=js&utm_medium=icalendar
END:VEVENT
END:VCALENDAR
