BEGIN:VCALENDAR
VERSION:2.0
PRODID:-//https://www.appleofhiseye.org//NONSGML kigkonsult.se iCalcreator 
 2.29.29//
CALSCALE:GREGORIAN
METHOD:PUBLISH
UID:9bde6e4d-2829-4cfa-af7a-e1f95a414c4e
X-WR-CALNAME:JCal Pro Calendar
X-WR-CALDESC:Your online events calendar
X-WR-TIMEZONE:UTC
BEGIN:VTIMEZONE
TZID:UTC
END:VTIMEZONE
BEGIN:VTIMEZONE
TZID:America/New_York
BEGIN:STANDARD
TZNAME:EST
DTSTART:20251102T020000
TZOFFSETFROM:-0400
TZOFFSETTO:-0500
RDATE:20261101T020000
END:STANDARD
BEGIN:DAYLIGHT
TZNAME:EDT
DTSTART:20260308T020000
TZOFFSETFROM:-0500
TZOFFSETTO:-0400
RDATE:20270314T020000
END:DAYLIGHT
END:VTIMEZONE
BEGIN:VEVENT
UID:hebcal-20200103-cac1aa4933d054b960677b3a4a2254b3-10001
DTSTAMP:20260420T080406Z
CATEGORIES:Jewish Calendar
DTSTART;TZID=America/New_York:20200103T162100
DTEND;TZID=America/New_York:20200103T162100
SUMMARY:Candle lighting
URL:https://www.appleofhiseye.org/resources-2/jewish-calendar/month-view/41
 -jewish-calendar/1134-candle-lighting
END:VEVENT
BEGIN:VEVENT
UID:hebcal-20200104-066cfa7f1a65b75a5611247ae073a78b-10001
DTSTAMP:20260420T080406Z
CATEGORIES:Jewish Calendar
DTSTART;TZID=America/New_York:20200104T172600
DTEND;TZID=America/New_York:20200104T172600
SUMMARY:Havdalah
URL:https://www.appleofhiseye.org/resources-2/jewish-calendar/month-view/41
 -jewish-calendar/1135-havdalah
END:VEVENT
BEGIN:VEVENT
UID:hebcal-20200107-2a28f56c14aefbdbc011cd9cfe62476d
DTSTAMP:20260420T080406Z
CATEGORIES:Jewish Calendar
DESCRIPTION:Fast commemorating the siege of Jerusalem<br />\nTorah: Exodus 
 32:11-34:10<br />\n<br />\nhttps://www.hebcal.com/holidays/asara-btevet-20
 20?utm_source=js&utm_medium=icalendar
DTSTART;TZID=America/New_York:20200106T190000
DTEND;TZID=America/New_York:20200107T190000
SUMMARY:Asara B'Tevet
URL:https://www.appleofhiseye.org/resources-2/jewish-calendar/month-view/41
 -jewish-calendar/1137-asara-b-tevet
X-ALT-DESC;FMTTYPE=TEXT/HTML:Fast commemorating the siege of Jerusalem<br /
 >\nTorah: Exodus 32:11-34:10<br />\n<br />\nhttps://www.hebcal.com/holiday
 s/asara-btevet-2020?utm_source=js&utm_medium=icalendar
END:VEVENT
BEGIN:VEVENT
UID:hebcal-20200107-66273107d4ac6311a72221c89876d8f8-10001
DTSTAMP:20260420T080406Z
CATEGORIES:Jewish Calendar
DTSTART;TZID=America/New_York:20200107T055200
DTEND;TZID=America/New_York:20200107T055200
SUMMARY:Fast begins
URL:https://www.appleofhiseye.org/resources-2/jewish-calendar/month-view/41
 -jewish-calendar/1136-fast-begins
END:VEVENT
BEGIN:VEVENT
UID:hebcal-20200107-c57d64c812cd6e0ab69978b2b881e5b0-10001
DTSTAMP:20260420T080406Z
CATEGORIES:Jewish Calendar
DTSTART;TZID=America/New_York:20200107T172000
DTEND;TZID=America/New_York:20200107T172000
SUMMARY:Fast ends
URL:https://www.appleofhiseye.org/resources-2/jewish-calendar/month-view/41
 -jewish-calendar/1138-fast-ends
END:VEVENT
BEGIN:VEVENT
UID:hebcal-20200110-cac1aa4933d054b960677b3a4a2254b3-10001
DTSTAMP:20260420T080406Z
CATEGORIES:Jewish Calendar
DTSTART;TZID=America/New_York:20200110T162800
DTEND;TZID=America/New_York:20200110T162800
SUMMARY:Candle lighting
URL:https://www.appleofhiseye.org/resources-2/jewish-calendar/month-view/41
 -jewish-calendar/1139-candle-lighting
END:VEVENT
BEGIN:VEVENT
UID:hebcal-20200111-066cfa7f1a65b75a5611247ae073a78b-10001
DTSTAMP:20260420T080406Z
CATEGORIES:Jewish Calendar
DTSTART;TZID=America/New_York:20200111T173200
DTEND;TZID=America/New_York:20200111T173200
SUMMARY:Havdalah
URL:https://www.appleofhiseye.org/resources-2/jewish-calendar/month-view/41
 -jewish-calendar/1140-havdalah
END:VEVENT
BEGIN:VEVENT
UID:hebcal-20200117-cac1aa4933d054b960677b3a4a2254b3-10001
DTSTAMP:20260420T080406Z
CATEGORIES:Jewish Calendar
DTSTART;TZID=America/New_York:20200117T163500
DTEND;TZID=America/New_York:20200117T163500
SUMMARY:Candle lighting
URL:https://www.appleofhiseye.org/resources-2/jewish-calendar/month-view/41
 -jewish-calendar/1141-candle-lighting
END:VEVENT
BEGIN:VEVENT
UID:hebcal-20200118-066cfa7f1a65b75a5611247ae073a78b-10001
DTSTAMP:20260420T080406Z
CATEGORIES:Jewish Calendar
DTSTART;TZID=America/New_York:20200118T173900
DTEND;TZID=America/New_York:20200118T173900
SUMMARY:Havdalah
URL:https://www.appleofhiseye.org/resources-2/jewish-calendar/month-view/41
 -jewish-calendar/1142-havdalah
END:VEVENT
BEGIN:VEVENT
UID:hebcal-20200124-cac1aa4933d054b960677b3a4a2254b3-10001
DTSTAMP:20260420T080406Z
CATEGORIES:Jewish Calendar
DTSTART;TZID=America/New_York:20200124T164400
DTEND;TZID=America/New_York:20200124T164400
SUMMARY:Candle lighting
URL:https://www.appleofhiseye.org/resources-2/jewish-calendar/month-view/41
 -jewish-calendar/1143-candle-lighting
END:VEVENT
BEGIN:VEVENT
UID:hebcal-20200125-066cfa7f1a65b75a5611247ae073a78b-10001
DTSTAMP:20260420T080406Z
CATEGORIES:Jewish Calendar
DTSTART;TZID=America/New_York:20200125T174700
DTEND;TZID=America/New_York:20200125T174700
SUMMARY:Havdalah
URL:https://www.appleofhiseye.org/resources-2/jewish-calendar/month-view/41
 -jewish-calendar/1144-havdalah
END:VEVENT
BEGIN:VEVENT
UID:hebcal-20200127-1646910e469056f5dedf7ad9e5f6649a
DTSTAMP:20260420T080406Z
CATEGORIES:Jewish Calendar
DESCRIPTION:Beginning of new Hebrew month of Sh'vat. Sh'vat (sometimes tran
 sliterated Shevat) is the 11th month of the Hebrew year. Corresponds to Ja
 nuary or February on the Gregorian calendar<br />\n<br />\nhttps://www.heb
 cal.com/holidays/rosh-chodesh-shvat-2020?utm_source=js&utm_medium=icalenda
 r
DTSTART;TZID=America/New_York:20200126T190000
DTEND;TZID=America/New_York:20200127T190000
SUMMARY:Rosh Chodesh Sh'vat
URL:https://www.appleofhiseye.org/resources-2/jewish-calendar/month-view/41
 -jewish-calendar/1145-rosh-chodesh-sh-vat
X-ALT-DESC;FMTTYPE=TEXT/HTML:Beginning of new Hebrew month of Sh'vat. Sh'va
 t (sometimes transliterated Shevat) is the 11th month of the Hebrew year. 
 Corresponds to January or February on the Gregorian calendar<br />\n<br />
 \nhttps://www.hebcal.com/holidays/rosh-chodesh-shvat-2020?utm_source=js&ut
 m_medium=icalendar
END:VEVENT
BEGIN:VEVENT
UID:hebcal-20200131-cac1aa4933d054b960677b3a4a2254b3-10001
DTSTAMP:20260420T080406Z
CATEGORIES:Jewish Calendar
DTSTART;TZID=America/New_York:20200131T165200
DTEND;TZID=America/New_York:20200131T165200
SUMMARY:Candle lighting
URL:https://www.appleofhiseye.org/resources-2/jewish-calendar/month-view/41
 -jewish-calendar/1146-candle-lighting
END:VEVENT
END:VCALENDAR
