BEGIN:VCALENDAR
VERSION:2.0
PRODID:-//https://www.appleofhiseye.org//NONSGML kigkonsult.se iCalcreator 
 2.29.29//
CALSCALE:GREGORIAN
METHOD:PUBLISH
UID:7b58a398-7ef3-451e-a3bd-e9e7a4e0af00
X-WR-CALNAME:JCal Pro Calendar
X-WR-CALDESC:Your online events calendar
X-WR-TIMEZONE:UTC
BEGIN:VTIMEZONE
TZID:UTC
END:VTIMEZONE
BEGIN:VTIMEZONE
TZID:America/New_York
BEGIN:STANDARD
TZNAME:EST
DTSTART:20251102T020000
TZOFFSETFROM:-0400
TZOFFSETTO:-0500
RDATE:20261101T020000
END:STANDARD
BEGIN:DAYLIGHT
TZNAME:EDT
DTSTART:20260308T020000
TZOFFSETFROM:-0500
TZOFFSETTO:-0400
RDATE:20270314T020000
END:DAYLIGHT
END:VTIMEZONE
BEGIN:VEVENT
UID:hebcal-20200501-cac1aa4933d054b960677b3a4a2254b3-10001
DTSTAMP:20260424T081807Z
CATEGORIES:Jewish Calendar
DTSTART;TZID=America/New_York:20200501T193400
DTEND;TZID=America/New_York:20200501T193400
SUMMARY:Candle lighting
URL:https://www.appleofhiseye.org/resources-2/jewish-calendar/month-view/41
 -jewish-calendar/1187-candle-lighting
END:VEVENT
BEGIN:VEVENT
UID:hebcal-20200502-066cfa7f1a65b75a5611247ae073a78b-10001
DTSTAMP:20260424T081807Z
CATEGORIES:Jewish Calendar
DTSTART;TZID=America/New_York:20200502T203900
DTEND;TZID=America/New_York:20200502T203900
SUMMARY:Havdalah
URL:https://www.appleofhiseye.org/resources-2/jewish-calendar/month-view/41
 -jewish-calendar/1188-havdalah
END:VEVENT
BEGIN:VEVENT
UID:hebcal-20200508-1b421c53cd2703ad639d5cfc522074c7
DTSTAMP:20260424T081807Z
CATEGORIES:Jewish Calendar
DESCRIPTION:Second Passover\, one month after Passover<br />\n<br />\nhttps
 ://www.hebcal.com/holidays/pesach-sheni-2020?utm_source=js&utm_medium=ical
 endar
DTSTART;TZID=America/New_York:20200507T200000
DTEND;TZID=America/New_York:20200508T200000
SUMMARY:Pesach Sheni
URL:https://www.appleofhiseye.org/resources-2/jewish-calendar/month-view/41
 -jewish-calendar/151-pesach-sheni
X-ALT-DESC;FMTTYPE=TEXT/HTML:Second Passover\, one month after Passover<br 
 />\n<br />\nhttps://www.hebcal.com/holidays/pesach-sheni-2020?utm_source=j
 s&utm_medium=icalendar
END:VEVENT
BEGIN:VEVENT
UID:hebcal-20200508-cac1aa4933d054b960677b3a4a2254b3-10001
DTSTAMP:20260424T081807Z
CATEGORIES:Jewish Calendar
DTSTART;TZID=America/New_York:20200508T194100
DTEND;TZID=America/New_York:20200508T194100
SUMMARY:Candle lighting
URL:https://www.appleofhiseye.org/resources-2/jewish-calendar/month-view/41
 -jewish-calendar/1189-candle-lighting
END:VEVENT
BEGIN:VEVENT
UID:hebcal-20200509-066cfa7f1a65b75a5611247ae073a78b-10001
DTSTAMP:20260424T081807Z
CATEGORIES:Jewish Calendar
DTSTART;TZID=America/New_York:20200509T204700
DTEND;TZID=America/New_York:20200509T204700
SUMMARY:Havdalah
URL:https://www.appleofhiseye.org/resources-2/jewish-calendar/month-view/41
 -jewish-calendar/1190-havdalah
END:VEVENT
BEGIN:VEVENT
UID:hebcal-20200512-be7a5dbc539c665c5179269ee60414fb
DTSTAMP:20260424T081807Z
CATEGORIES:Jewish Calendar
DESCRIPTION:33rd day of counting the Omer<br />\n<br />\nhttps://www.hebcal
 .com/holidays/lag-baomer-2020?utm_source=js&utm_medium=icalendar
DTSTART;TZID=America/New_York:20200511T200000
DTEND;TZID=America/New_York:20200512T200000
SUMMARY:Lag BaOmer
URL:https://www.appleofhiseye.org/resources-2/jewish-calendar/month-view/41
 -jewish-calendar/152-lag-baomer
X-ALT-DESC;FMTTYPE=TEXT/HTML:33rd day of counting the Omer<br />\n<br />\nh
 ttps://www.hebcal.com/holidays/lag-baomer-2020?utm_source=js&utm_medium=ic
 alendar
END:VEVENT
BEGIN:VEVENT
UID:hebcal-20200515-cac1aa4933d054b960677b3a4a2254b3-10001
DTSTAMP:20260424T081807Z
CATEGORIES:Jewish Calendar
DTSTART;TZID=America/New_York:20200515T194800
DTEND;TZID=America/New_York:20200515T194800
SUMMARY:Candle lighting
URL:https://www.appleofhiseye.org/resources-2/jewish-calendar/month-view/41
 -jewish-calendar/1191-candle-lighting
END:VEVENT
BEGIN:VEVENT
UID:hebcal-20200516-066cfa7f1a65b75a5611247ae073a78b-10001
DTSTAMP:20260424T081807Z
CATEGORIES:Jewish Calendar
DTSTART;TZID=America/New_York:20200516T205500
DTEND;TZID=America/New_York:20200516T205500
SUMMARY:Havdalah
URL:https://www.appleofhiseye.org/resources-2/jewish-calendar/month-view/41
 -jewish-calendar/1192-havdalah
END:VEVENT
BEGIN:VEVENT
UID:hebcal-20200522-04fa5a48c510843c4782c805143c9435
DTSTAMP:20260424T081807Z
CATEGORIES:Jewish Calendar
DESCRIPTION:Jerusalem Day. Commemorates the re-unification of Jerusalem in 
 1967<br />\n<br />\nhttps://www.hebcal.com/holidays/yom-yerushalayim-2020?
 utm_source=js&utm_medium=icalendar
DTSTART;TZID=America/New_York:20200521T200000
DTEND;TZID=America/New_York:20200522T200000
SUMMARY:Yom Yerushalayim
URL:https://www.appleofhiseye.org/resources-2/jewish-calendar/month-view/41
 -jewish-calendar/153-yom-yerushalayim
X-ALT-DESC;FMTTYPE=TEXT/HTML:Jerusalem Day. Commemorates the re-unification
  of Jerusalem in 1967<br />\n<br />\nhttps://www.hebcal.com/holidays/yom-y
 erushalayim-2020?utm_source=js&utm_medium=icalendar
END:VEVENT
BEGIN:VEVENT
UID:hebcal-20200522-cac1aa4933d054b960677b3a4a2254b3-10001
DTSTAMP:20260424T081807Z
CATEGORIES:Jewish Calendar
DTSTART;TZID=America/New_York:20200522T195500
DTEND;TZID=America/New_York:20200522T195500
SUMMARY:Candle lighting
URL:https://www.appleofhiseye.org/resources-2/jewish-calendar/month-view/41
 -jewish-calendar/1193-candle-lighting
END:VEVENT
BEGIN:VEVENT
UID:hebcal-20200524-67988b8d7dc0a4c1b2efb3224a3439a0
DTSTAMP:20260424T081807Z
CATEGORIES:Jewish Calendar
DESCRIPTION:Beginning of new Hebrew month of Sivan. Sivan is the 3rd month 
 of the Hebrew year. Corresponds to May or June on the Gregorian calendar<b
 r />\n<br />\nhttps://www.hebcal.com/holidays/rosh-chodesh-sivan-2020?utm_
 source=js&utm_medium=icalendar
DTSTART;TZID=America/New_York:20200523T200000
DTEND;TZID=America/New_York:20200524T200000
SUMMARY:Rosh Chodesh Sivan
URL:https://www.appleofhiseye.org/resources-2/jewish-calendar/month-view/41
 -jewish-calendar/1195-rosh-chodesh-sivan
X-ALT-DESC;FMTTYPE=TEXT/HTML:Beginning of new Hebrew month of Sivan. Sivan 
 is the 3rd month of the Hebrew year. Corresponds to May or June on the Gre
 gorian calendar<br />\n<br />\nhttps://www.hebcal.com/holidays/rosh-chodes
 h-sivan-2020?utm_source=js&utm_medium=icalendar
END:VEVENT
BEGIN:VEVENT
UID:hebcal-20200523-066cfa7f1a65b75a5611247ae073a78b-10001
DTSTAMP:20260424T081807Z
CATEGORIES:Jewish Calendar
DTSTART;TZID=America/New_York:20200523T210300
DTEND;TZID=America/New_York:20200523T210300
SUMMARY:Havdalah
URL:https://www.appleofhiseye.org/resources-2/jewish-calendar/month-view/41
 -jewish-calendar/1194-havdalah
END:VEVENT
BEGIN:VEVENT
UID:hebcal-20200528-92fb237371295607b152371f548ef03b
DTSTAMP:20260424T081807Z
CATEGORIES:Jewish Calendar
DESCRIPTION:Festival of Weeks. Commemorates the giving of the Torah at Moun
 t Sinai<br />\n<br />\nhttps://www.hebcal.com/holidays/shavuot-2020?utm_so
 urce=js&utm_medium=icalendar
DTSTART;TZID=America/New_York:20200527T200000
DTEND;TZID=America/New_York:20200528T200000
SUMMARY:Erev Shavuot
URL:https://www.appleofhiseye.org/resources-2/jewish-calendar/month-view/41
 -jewish-calendar/154-erev-shavuot
X-ALT-DESC;FMTTYPE=TEXT/HTML:Festival of Weeks. Commemorates the giving of 
 the Torah at Mount Sinai<br />\n<br />\nhttps://www.hebcal.com/holidays/sh
 avuot-2020?utm_source=js&utm_medium=icalendar
END:VEVENT
BEGIN:VEVENT
UID:hebcal-20200529-f35c83329f2e5b221d5a6f0500dbbd1d
DTSTAMP:20260424T081807Z
CATEGORIES:Jewish Calendar
DESCRIPTION:Festival of Weeks. Commemorates the giving of the Torah at Moun
 t Sinai<br />\nTorah: Exodus 19:1-20:23\; Numbers 28:26-28:31<br />\nHafta
 rah: Ezekiel 1:1-28\; 3:12<br />\n<br />\nhttps://www.hebcal.com/holidays/
 shavuot-2020?utm_source=js&utm_medium=icalendar
DTSTART;TZID=America/New_York:20200528T200000
DTEND;TZID=America/New_York:20200529T200000
SUMMARY:Shavuot I
URL:https://www.appleofhiseye.org/resources-2/jewish-calendar/month-view/41
 -jewish-calendar/155-shavuot-i
X-ALT-DESC;FMTTYPE=TEXT/HTML:Festival of Weeks. Commemorates the giving of 
 the Torah at Mount Sinai<br />\nTorah: Exodus 19:1-20:23\; Numbers 28:26-2
 8:31<br />\nHaftarah: Ezekiel 1:1-28\; 3:12<br />\n<br />\nhttps://www.heb
 cal.com/holidays/shavuot-2020?utm_source=js&utm_medium=icalendar
END:VEVENT
BEGIN:VEVENT
UID:hebcal-20200528-cac1aa4933d054b960677b3a4a2254b3-10001
DTSTAMP:20260424T081807Z
CATEGORIES:Jewish Calendar
DTSTART;TZID=America/New_York:20200528T200000
DTEND;TZID=America/New_York:20200528T200000
SUMMARY:Candle lighting
URL:https://www.appleofhiseye.org/resources-2/jewish-calendar/month-view/41
 -jewish-calendar/1196-candle-lighting
END:VEVENT
BEGIN:VEVENT
UID:hebcal-20200530-3b32040f0b8d1e63b1632780b718d45a
DTSTAMP:20260424T081807Z
CATEGORIES:Jewish Calendar
DESCRIPTION:Festival of Weeks. Commemorates the giving of the Torah at Moun
 t Sinai<br />\nTorah: Deuteronomy 14:22-16:17\; Numbers 28:26-28:31<br />
 \nHaftarah: Habakkuk 3:1-19<br />\n<br />\nhttps://www.hebcal.com/holidays
 /shavuot-2020?utm_source=js&utm_medium=icalendar
DTSTART;TZID=America/New_York:20200529T200000
DTEND;TZID=America/New_York:20200530T200000
SUMMARY:Shavuot II
URL:https://www.appleofhiseye.org/resources-2/jewish-calendar/month-view/41
 -jewish-calendar/156-shavuot-ii
X-ALT-DESC;FMTTYPE=TEXT/HTML:Festival of Weeks. Commemorates the giving of 
 the Torah at Mount Sinai<br />\nTorah: Deuteronomy 14:22-16:17\; Numbers 2
 8:26-28:31<br />\nHaftarah: Habakkuk 3:1-19<br />\n<br />\nhttps://www.heb
 cal.com/holidays/shavuot-2020?utm_source=js&utm_medium=icalendar
END:VEVENT
BEGIN:VEVENT
UID:hebcal-20200529-cac1aa4933d054b960677b3a4a2254b3-10001
DTSTAMP:20260424T081807Z
CATEGORIES:Jewish Calendar
DTSTART;TZID=America/New_York:20200529T200100
DTEND;TZID=America/New_York:20200529T200100
SUMMARY:Candle lighting
URL:https://www.appleofhiseye.org/resources-2/jewish-calendar/month-view/41
 -jewish-calendar/1197-candle-lighting
END:VEVENT
BEGIN:VEVENT
UID:hebcal-20200530-066cfa7f1a65b75a5611247ae073a78b-10001
DTSTAMP:20260424T081807Z
CATEGORIES:Jewish Calendar
DTSTART;TZID=America/New_York:20200530T210900
DTEND;TZID=America/New_York:20200530T210900
SUMMARY:Havdalah
URL:https://www.appleofhiseye.org/resources-2/jewish-calendar/month-view/41
 -jewish-calendar/1198-havdalah
END:VEVENT
END:VCALENDAR
