BEGIN:VCALENDAR
VERSION:2.0
PRODID:-//https://www.appleofhiseye.org//NONSGML kigkonsult.se iCalcreator 
 2.29.29//
CALSCALE:GREGORIAN
METHOD:PUBLISH
UID:835c3934-af9a-438b-bd83-633f47b28dd1
X-WR-CALNAME:JCal Pro Calendar
X-WR-CALDESC:Your online events calendar
X-WR-TIMEZONE:UTC
BEGIN:VTIMEZONE
TZID:UTC
END:VTIMEZONE
BEGIN:VTIMEZONE
TZID:America/New_York
BEGIN:STANDARD
TZNAME:EST
DTSTART:20251102T020000
TZOFFSETFROM:-0400
TZOFFSETTO:-0500
RDATE:20261101T020000
END:STANDARD
BEGIN:DAYLIGHT
TZNAME:EDT
DTSTART:20260308T020000
TZOFFSETFROM:-0500
TZOFFSETTO:-0400
RDATE:20270314T020000
END:DAYLIGHT
END:VTIMEZONE
BEGIN:VEVENT
UID:hebcal-20200605-cac1aa4933d054b960677b3a4a2254b3-10001
DTSTAMP:20260420T080405Z
CATEGORIES:Jewish Calendar
DTSTART;TZID=America/New_York:20200605T200600
DTEND;TZID=America/New_York:20200605T200600
SUMMARY:Candle lighting
URL:https://www.appleofhiseye.org/resources-2/jewish-calendar/month-view/41
 -jewish-calendar/1199-candle-lighting
END:VEVENT
BEGIN:VEVENT
UID:hebcal-20200606-066cfa7f1a65b75a5611247ae073a78b-10001
DTSTAMP:20260420T080405Z
CATEGORIES:Jewish Calendar
DTSTART;TZID=America/New_York:20200606T211500
DTEND;TZID=America/New_York:20200606T211500
SUMMARY:Havdalah
URL:https://www.appleofhiseye.org/resources-2/jewish-calendar/month-view/41
 -jewish-calendar/1200-havdalah
END:VEVENT
BEGIN:VEVENT
UID:hebcal-20200612-cac1aa4933d054b960677b3a4a2254b3-10001
DTSTAMP:20260420T080405Z
CATEGORIES:Jewish Calendar
DTSTART;TZID=America/New_York:20200612T201000
DTEND;TZID=America/New_York:20200612T201000
SUMMARY:Candle lighting
URL:https://www.appleofhiseye.org/resources-2/jewish-calendar/month-view/41
 -jewish-calendar/1201-candle-lighting
END:VEVENT
BEGIN:VEVENT
UID:hebcal-20200613-066cfa7f1a65b75a5611247ae073a78b-10001
DTSTAMP:20260420T080405Z
CATEGORIES:Jewish Calendar
DTSTART;TZID=America/New_York:20200613T211900
DTEND;TZID=America/New_York:20200613T211900
SUMMARY:Havdalah
URL:https://www.appleofhiseye.org/resources-2/jewish-calendar/month-view/41
 -jewish-calendar/1202-havdalah
END:VEVENT
BEGIN:VEVENT
UID:hebcal-20200619-cac1aa4933d054b960677b3a4a2254b3-10001
DTSTAMP:20260420T080405Z
CATEGORIES:Jewish Calendar
DTSTART;TZID=America/New_York:20200619T201200
DTEND;TZID=America/New_York:20200619T201200
SUMMARY:Candle lighting
URL:https://www.appleofhiseye.org/resources-2/jewish-calendar/month-view/41
 -jewish-calendar/1203-candle-lighting
END:VEVENT
BEGIN:VEVENT
UID:hebcal-20200620-066cfa7f1a65b75a5611247ae073a78b-10001
DTSTAMP:20260420T080405Z
CATEGORIES:Jewish Calendar
DTSTART;TZID=America/New_York:20200620T212100
DTEND;TZID=America/New_York:20200620T212100
SUMMARY:Havdalah
URL:https://www.appleofhiseye.org/resources-2/jewish-calendar/month-view/41
 -jewish-calendar/1204-havdalah
END:VEVENT
BEGIN:VEVENT
UID:hebcal-20200622-3d7a668b952fad094563af4ca0ee8fd9
DTSTAMP:20260420T080405Z
CATEGORIES:Jewish Calendar
DESCRIPTION:Beginning of new Hebrew month of Tamuz. Tamuz (sometimes transl
 iterated Tammuz) is the 4th month of the Hebrew year. Corresponds to June 
 or July on the Gregorian calendar<br />\n<br />\nhttps://www.hebcal.com/ho
 lidays/rosh-chodesh-tamuz-2020?utm_source=js&utm_medium=icalendar
DTSTART;TZID=America/New_York:20200621T200000
DTEND;TZID=America/New_York:20200622T200000
SUMMARY:Rosh Chodesh Tamuz
URL:https://www.appleofhiseye.org/resources-2/jewish-calendar/month-view/41
 -jewish-calendar/1205-rosh-chodesh-tamuz
X-ALT-DESC;FMTTYPE=TEXT/HTML:Beginning of new Hebrew month of Tamuz. Tamuz 
 (sometimes transliterated Tammuz) is the 4th month of the Hebrew year. Cor
 responds to June or July on the Gregorian calendar<br />\n<br />\nhttps://
 www.hebcal.com/holidays/rosh-chodesh-tamuz-2020?utm_source=js&utm_medium=i
 calendar
END:VEVENT
BEGIN:VEVENT
UID:hebcal-20200623-3d7a668b952fad094563af4ca0ee8fd9
DTSTAMP:20260420T080405Z
CATEGORIES:Jewish Calendar
DESCRIPTION:Beginning of new Hebrew month of Tamuz. Tamuz (sometimes transl
 iterated Tammuz) is the 4th month of the Hebrew year. Corresponds to June 
 or July on the Gregorian calendar<br />\n<br />\nhttps://www.hebcal.com/ho
 lidays/rosh-chodesh-tamuz-2020?utm_source=js&utm_medium=icalendar
DTSTART;TZID=America/New_York:20200622T200000
DTEND;TZID=America/New_York:20200623T200000
SUMMARY:Rosh Chodesh Tamuz
URL:https://www.appleofhiseye.org/resources-2/jewish-calendar/month-view/41
 -jewish-calendar/1206-rosh-chodesh-tamuz
X-ALT-DESC;FMTTYPE=TEXT/HTML:Beginning of new Hebrew month of Tamuz. Tamuz 
 (sometimes transliterated Tammuz) is the 4th month of the Hebrew year. Cor
 responds to June or July on the Gregorian calendar<br />\n<br />\nhttps://
 www.hebcal.com/holidays/rosh-chodesh-tamuz-2020?utm_source=js&utm_medium=i
 calendar
END:VEVENT
BEGIN:VEVENT
UID:hebcal-20200626-cac1aa4933d054b960677b3a4a2254b3-10001
DTSTAMP:20260420T080405Z
CATEGORIES:Jewish Calendar
DTSTART;TZID=America/New_York:20200626T201300
DTEND;TZID=America/New_York:20200626T201300
SUMMARY:Candle lighting
URL:https://www.appleofhiseye.org/resources-2/jewish-calendar/month-view/41
 -jewish-calendar/1207-candle-lighting
END:VEVENT
BEGIN:VEVENT
UID:hebcal-20200627-066cfa7f1a65b75a5611247ae073a78b-10001
DTSTAMP:20260420T080405Z
CATEGORIES:Jewish Calendar
DTSTART;TZID=America/New_York:20200627T212200
DTEND;TZID=America/New_York:20200627T212200
SUMMARY:Havdalah
URL:https://www.appleofhiseye.org/resources-2/jewish-calendar/month-view/41
 -jewish-calendar/1208-havdalah
END:VEVENT
END:VCALENDAR
