BEGIN:VCALENDAR
VERSION:2.0
PRODID:-//https://www.appleofhiseye.org//NONSGML kigkonsult.se iCalcreator 
 2.29.29//
CALSCALE:GREGORIAN
METHOD:PUBLISH
UID:5db48e43-3a43-4fc3-8462-55a17fffa46f
X-WR-CALNAME:JCal Pro Calendar
X-WR-CALDESC:Your online events calendar
X-WR-TIMEZONE:UTC
BEGIN:VTIMEZONE
TZID:UTC
END:VTIMEZONE
BEGIN:VTIMEZONE
TZID:America/New_York
BEGIN:STANDARD
TZNAME:EST
DTSTART:20251102T020000
TZOFFSETFROM:-0400
TZOFFSETTO:-0500
RDATE:20261101T020000
END:STANDARD
BEGIN:DAYLIGHT
TZNAME:EDT
DTSTART:20260308T020000
TZOFFSETFROM:-0500
TZOFFSETTO:-0400
RDATE:20270314T020000
END:DAYLIGHT
END:VTIMEZONE
BEGIN:VEVENT
UID:hebcal-20230802-720e1a9b1d68414698305ea588f67745
DTSTAMP:20260422T133742Z
CATEGORIES:Jewish Calendar
DESCRIPTION:Minor Jewish holiday of love. Observed on the 15th day of the H
 ebrew month of Av<br />\n<br />\nhttps://www.hebcal.com/holidays/tu-bav-20
 23?utm_source=js&utm_medium=icalendar
DTSTART;TZID=America/New_York:20230801T200000
DTEND;TZID=America/New_York:20230802T200000
SUMMARY:Tu B'Av
URL:https://www.appleofhiseye.org/resources-2/jewish-calendar/month-view/41
 -jewish-calendar/1842-tu-b-av
X-ALT-DESC;FMTTYPE=TEXT/HTML:Minor Jewish holiday of love. Observed on the 
 15th day of the Hebrew month of Av<br />\n<br />\nhttps://www.hebcal.com/h
 olidays/tu-bav-2023?utm_source=js&utm_medium=icalendar
END:VEVENT
BEGIN:VEVENT
UID:hebcal-20230804-cac1aa4933d054b960677b3a4a2254b3-10001
DTSTAMP:20260422T133742Z
CATEGORIES:Jewish Calendar
DTSTART;TZID=America/New_York:20230804T195000
DTEND;TZID=America/New_York:20230804T195000
SUMMARY:Candle lighting
URL:https://www.appleofhiseye.org/resources-2/jewish-calendar/month-view/41
 -jewish-calendar/1843-candle-lighting
END:VEVENT
BEGIN:VEVENT
UID:hebcal-20230805-066cfa7f1a65b75a5611247ae073a78b-10001
DTSTAMP:20260422T133742Z
CATEGORIES:Jewish Calendar
DTSTART;TZID=America/New_York:20230805T205300
DTEND;TZID=America/New_York:20230805T205300
SUMMARY:Havdalah
URL:https://www.appleofhiseye.org/resources-2/jewish-calendar/month-view/41
 -jewish-calendar/1844-havdalah
END:VEVENT
BEGIN:VEVENT
UID:hebcal-20230811-cac1aa4933d054b960677b3a4a2254b3-10001
DTSTAMP:20260422T133742Z
CATEGORIES:Jewish Calendar
DTSTART;TZID=America/New_York:20230811T194100
DTEND;TZID=America/New_York:20230811T194100
SUMMARY:Candle lighting
URL:https://www.appleofhiseye.org/resources-2/jewish-calendar/month-view/41
 -jewish-calendar/1845-candle-lighting
END:VEVENT
BEGIN:VEVENT
UID:hebcal-20230812-066cfa7f1a65b75a5611247ae073a78b-10001
DTSTAMP:20260422T133742Z
CATEGORIES:Jewish Calendar
DTSTART;TZID=America/New_York:20230812T204300
DTEND;TZID=America/New_York:20230812T204300
SUMMARY:Havdalah
URL:https://www.appleofhiseye.org/resources-2/jewish-calendar/month-view/41
 -jewish-calendar/1846-havdalah
END:VEVENT
BEGIN:VEVENT
UID:hebcal-20230817-48c03c6e24ef2f382d00887444fd3e31
DTSTAMP:20260422T133742Z
CATEGORIES:Jewish Calendar
DESCRIPTION:Beginning of new Hebrew month of Elul. Elul is the 6th month of
  the Hebrew year. Corresponds to August or September on the Gregorian cale
 ndar<br />\n<br />\nhttps://www.hebcal.com/holidays/rosh-chodesh-elul-2023
 ?utm_source=js&utm_medium=icalendar
DTSTART;TZID=America/New_York:20230816T200000
DTEND;TZID=America/New_York:20230817T200000
SUMMARY:Rosh Chodesh Elul
URL:https://www.appleofhiseye.org/resources-2/jewish-calendar/month-view/41
 -jewish-calendar/1847-rosh-chodesh-elul
X-ALT-DESC;FMTTYPE=TEXT/HTML:Beginning of new Hebrew month of Elul. Elul is
  the 6th month of the Hebrew year. Corresponds to August or September on t
 he Gregorian calendar<br />\n<br />\nhttps://www.hebcal.com/holidays/rosh-
 chodesh-elul-2023?utm_source=js&utm_medium=icalendar
END:VEVENT
BEGIN:VEVENT
UID:hebcal-20230818-48c03c6e24ef2f382d00887444fd3e31
DTSTAMP:20260422T133742Z
CATEGORIES:Jewish Calendar
DESCRIPTION:Beginning of new Hebrew month of Elul. Elul is the 6th month of
  the Hebrew year. Corresponds to August or September on the Gregorian cale
 ndar<br />\n<br />\nhttps://www.hebcal.com/holidays/rosh-chodesh-elul-2023
 ?utm_source=js&utm_medium=icalendar
DTSTART;TZID=America/New_York:20230817T200000
DTEND;TZID=America/New_York:20230818T200000
SUMMARY:Rosh Chodesh Elul
URL:https://www.appleofhiseye.org/resources-2/jewish-calendar/month-view/41
 -jewish-calendar/1848-rosh-chodesh-elul
X-ALT-DESC;FMTTYPE=TEXT/HTML:Beginning of new Hebrew month of Elul. Elul is
  the 6th month of the Hebrew year. Corresponds to August or September on t
 he Gregorian calendar<br />\n<br />\nhttps://www.hebcal.com/holidays/rosh-
 chodesh-elul-2023?utm_source=js&utm_medium=icalendar
END:VEVENT
BEGIN:VEVENT
UID:hebcal-20230818-cac1aa4933d054b960677b3a4a2254b3-10001
DTSTAMP:20260422T133742Z
CATEGORIES:Jewish Calendar
DTSTART;TZID=America/New_York:20230818T193200
DTEND;TZID=America/New_York:20230818T193200
SUMMARY:Candle lighting
URL:https://www.appleofhiseye.org/resources-2/jewish-calendar/month-view/41
 -jewish-calendar/1849-candle-lighting
END:VEVENT
BEGIN:VEVENT
UID:hebcal-20230819-066cfa7f1a65b75a5611247ae073a78b-10001
DTSTAMP:20260422T133742Z
CATEGORIES:Jewish Calendar
DTSTART;TZID=America/New_York:20230819T203200
DTEND;TZID=America/New_York:20230819T203200
SUMMARY:Havdalah
URL:https://www.appleofhiseye.org/resources-2/jewish-calendar/month-view/41
 -jewish-calendar/1850-havdalah
END:VEVENT
BEGIN:VEVENT
UID:hebcal-20230825-cac1aa4933d054b960677b3a4a2254b3-10001
DTSTAMP:20260422T133742Z
CATEGORIES:Jewish Calendar
DTSTART;TZID=America/New_York:20230825T192100
DTEND;TZID=America/New_York:20230825T192100
SUMMARY:Candle lighting
URL:https://www.appleofhiseye.org/resources-2/jewish-calendar/month-view/41
 -jewish-calendar/1851-candle-lighting
END:VEVENT
BEGIN:VEVENT
UID:hebcal-20230826-066cfa7f1a65b75a5611247ae073a78b-10001
DTSTAMP:20260422T133742Z
CATEGORIES:Jewish Calendar
DTSTART;TZID=America/New_York:20230826T202100
DTEND;TZID=America/New_York:20230826T202100
SUMMARY:Havdalah
URL:https://www.appleofhiseye.org/resources-2/jewish-calendar/month-view/41
 -jewish-calendar/1852-havdalah
END:VEVENT
END:VCALENDAR
