BEGIN:VCALENDAR
VERSION:2.0
PRODID:-//https://www.appleofhiseye.org//NONSGML kigkonsult.se iCalcreator 
 2.29.29//
CALSCALE:GREGORIAN
METHOD:PUBLISH
UID:8ded6377-1a3c-4a3c-8b80-1456c592cb5e
X-WR-CALNAME:JCal Pro Calendar
X-WR-CALDESC:Your online events calendar
X-WR-TIMEZONE:UTC
BEGIN:VTIMEZONE
TZID:UTC
END:VTIMEZONE
BEGIN:VTIMEZONE
TZID:America/New_York
BEGIN:STANDARD
TZNAME:EST
DTSTART:20251102T020000
TZOFFSETFROM:-0400
TZOFFSETTO:-0500
RDATE:20261101T020000
END:STANDARD
BEGIN:DAYLIGHT
TZNAME:EDT
DTSTART:20260308T020000
TZOFFSETFROM:-0500
TZOFFSETTO:-0400
RDATE:20270314T020000
END:DAYLIGHT
END:VTIMEZONE
BEGIN:VEVENT
UID:hebcal-20200221-cac1aa4933d054b960677b3a4a2254b3-10001
DTSTAMP:20260420T080443Z
CATEGORIES:Jewish Calendar
DTSTART;TZID=America/New_York:20200221T171700
DTEND;TZID=America/New_York:20200221T171700
SUMMARY:Candle lighting
URL:https://www.appleofhiseye.org/resources-2/jewish-calendar/month-view/41
 -jewish-calendar/1152-candle-lighting
END:VEVENT
BEGIN:VEVENT
UID:hebcal-20200222-f6d79c3107a8016e4aed0cffd28dd477
DTSTAMP:20260420T080443Z
CATEGORIES:Jewish Calendar
DESCRIPTION:Shabbat before Rosh Chodesh Adar<br />\nHaftarah: II Kings 12:1
  - 12:17<br />\n<br />\nhttps://www.hebcal.com/holidays/shabbat-shekalim-2
 020?utm_source=js&utm_medium=icalendar
DTSTART;TZID=America/New_York:20200221T190000
DTEND;TZID=America/New_York:20200222T190000
SUMMARY:Shabbat Shekalim
URL:https://www.appleofhiseye.org/resources-2/jewish-calendar/month-view/41
 -jewish-calendar/1087-shabbat-shekalim
X-ALT-DESC;FMTTYPE=TEXT/HTML:Shabbat before Rosh Chodesh Adar<br />\nHaftar
 ah: II Kings 12:1 - 12:17<br />\n<br />\nhttps://www.hebcal.com/holidays/s
 habbat-shekalim-2020?utm_source=js&utm_medium=icalendar
END:VEVENT
BEGIN:VEVENT
UID:hebcal-20200222-066cfa7f1a65b75a5611247ae073a78b-10001
DTSTAMP:20260420T080443Z
CATEGORIES:Jewish Calendar
DTSTART;TZID=America/New_York:20200222T181700
DTEND;TZID=America/New_York:20200222T181700
SUMMARY:Havdalah
URL:https://www.appleofhiseye.org/resources-2/jewish-calendar/month-view/41
 -jewish-calendar/1153-havdalah
END:VEVENT
END:VCALENDAR
