BEGIN:VCALENDAR
VERSION:2.0
PRODID:-//https://www.appleofhiseye.org//NONSGML kigkonsult.se iCalcreator 
 2.29.29//
CALSCALE:GREGORIAN
METHOD:PUBLISH
UID:4f1bb4c5-adf8-456c-95a7-c8aa5ba6e558
X-WR-CALNAME:JCal Pro Calendar
X-WR-CALDESC:Your online events calendar
X-WR-TIMEZONE:UTC
BEGIN:VTIMEZONE
TZID:UTC
END:VTIMEZONE
BEGIN:VTIMEZONE
TZID:America/New_York
BEGIN:STANDARD
TZNAME:EST
DTSTART:20251102T020000
TZOFFSETFROM:-0400
TZOFFSETTO:-0500
RDATE:20261101T020000
END:STANDARD
BEGIN:DAYLIGHT
TZNAME:EDT
DTSTART:20260308T020000
TZOFFSETFROM:-0500
TZOFFSETTO:-0400
RDATE:20270314T020000
END:DAYLIGHT
END:VTIMEZONE
BEGIN:VEVENT
UID:hebcal-20230602-cac1aa4933d054b960677b3a4a2254b3-10001
DTSTAMP:20260422T133740Z
CATEGORIES:Jewish Calendar
DTSTART;TZID=America/New_York:20230602T200300
DTEND;TZID=America/New_York:20230602T200300
SUMMARY:Candle lighting
URL:https://www.appleofhiseye.org/resources-2/jewish-calendar/month-view/41
 -jewish-calendar/1812-candle-lighting
END:VEVENT
BEGIN:VEVENT
UID:hebcal-20230603-066cfa7f1a65b75a5611247ae073a78b-10001
DTSTAMP:20260422T133740Z
CATEGORIES:Jewish Calendar
DTSTART;TZID=America/New_York:20230603T211200
DTEND;TZID=America/New_York:20230603T211200
SUMMARY:Havdalah
URL:https://www.appleofhiseye.org/resources-2/jewish-calendar/month-view/41
 -jewish-calendar/1813-havdalah
END:VEVENT
END:VCALENDAR
