BEGIN:VCALENDAR
VERSION:2.0
PRODID:-//https://www.appleofhiseye.org//NONSGML kigkonsult.se iCalcreator 
 2.29.29//
CALSCALE:GREGORIAN
METHOD:PUBLISH
UID:db5373ee-e3b2-4de5-89f3-41a1c1743ec9
X-WR-CALNAME:JCal Pro Calendar
X-WR-CALDESC:Your online events calendar
X-WR-TIMEZONE:UTC
BEGIN:VTIMEZONE
TZID:UTC
END:VTIMEZONE
BEGIN:VTIMEZONE
TZID:America/New_York
BEGIN:STANDARD
TZNAME:EST
DTSTART:20251102T020000
TZOFFSETFROM:-0400
TZOFFSETTO:-0500
RDATE:20261101T020000
END:STANDARD
BEGIN:DAYLIGHT
TZNAME:EDT
DTSTART:20260308T020000
TZOFFSETFROM:-0500
TZOFFSETTO:-0400
RDATE:20270314T020000
END:DAYLIGHT
END:VTIMEZONE
BEGIN:VEVENT
UID:hebcal-20230619-3d7a668b952fad094563af4ca0ee8fd9
DTSTAMP:20260422T120649Z
CATEGORIES:Jewish Calendar
DESCRIPTION:Beginning of new Hebrew month of Tamuz. Tamuz (sometimes transl
 iterated Tammuz) is the 4th month of the Hebrew year. Corresponds to June 
 or July on the Gregorian calendar<br />\n<br />\nhttps://www.hebcal.com/ho
 lidays/rosh-chodesh-tamuz-2023?utm_source=js&utm_medium=icalendar
DTSTART;TZID=America/New_York:20230618T200000
DTEND;TZID=America/New_York:20230619T200000
SUMMARY:Rosh Chodesh Tamuz
URL:https://www.appleofhiseye.org/resources-2/jewish-calendar/month-view/41
 -jewish-calendar/1818-rosh-chodesh-tamuz
X-ALT-DESC;FMTTYPE=TEXT/HTML:Beginning of new Hebrew month of Tamuz. Tamuz 
 (sometimes transliterated Tammuz) is the 4th month of the Hebrew year. Cor
 responds to June or July on the Gregorian calendar<br />\n<br />\nhttps://
 www.hebcal.com/holidays/rosh-chodesh-tamuz-2023?utm_source=js&utm_medium=i
 calendar
END:VEVENT
BEGIN:VEVENT
UID:hebcal-20230620-3d7a668b952fad094563af4ca0ee8fd9
DTSTAMP:20260422T120649Z
CATEGORIES:Jewish Calendar
DESCRIPTION:Beginning of new Hebrew month of Tamuz. Tamuz (sometimes transl
 iterated Tammuz) is the 4th month of the Hebrew year. Corresponds to June 
 or July on the Gregorian calendar<br />\n<br />\nhttps://www.hebcal.com/ho
 lidays/rosh-chodesh-tamuz-2023?utm_source=js&utm_medium=icalendar
DTSTART;TZID=America/New_York:20230619T200000
DTEND;TZID=America/New_York:20230620T200000
SUMMARY:Rosh Chodesh Tamuz
URL:https://www.appleofhiseye.org/resources-2/jewish-calendar/month-view/41
 -jewish-calendar/1819-rosh-chodesh-tamuz
X-ALT-DESC;FMTTYPE=TEXT/HTML:Beginning of new Hebrew month of Tamuz. Tamuz 
 (sometimes transliterated Tammuz) is the 4th month of the Hebrew year. Cor
 responds to June or July on the Gregorian calendar<br />\n<br />\nhttps://
 www.hebcal.com/holidays/rosh-chodesh-tamuz-2023?utm_source=js&utm_medium=i
 calendar
END:VEVENT
BEGIN:VEVENT
UID:hebcal-20230623-cac1aa4933d054b960677b3a4a2254b3-10001
DTSTAMP:20260422T120649Z
CATEGORIES:Jewish Calendar
DTSTART;TZID=America/New_York:20230623T201300
DTEND;TZID=America/New_York:20230623T201300
SUMMARY:Candle lighting
URL:https://www.appleofhiseye.org/resources-2/jewish-calendar/month-view/41
 -jewish-calendar/1820-candle-lighting
END:VEVENT
BEGIN:VEVENT
UID:hebcal-20230624-066cfa7f1a65b75a5611247ae073a78b-10001
DTSTAMP:20260422T120649Z
CATEGORIES:Jewish Calendar
DTSTART;TZID=America/New_York:20230624T212200
DTEND;TZID=America/New_York:20230624T212200
SUMMARY:Havdalah
URL:https://www.appleofhiseye.org/resources-2/jewish-calendar/month-view/41
 -jewish-calendar/1821-havdalah
END:VEVENT
END:VCALENDAR
