BEGIN:VCALENDAR
VERSION:2.0
PRODID:-//https://www.appleofhiseye.org//NONSGML kigkonsult.se iCalcreator 
 2.29.29//
CALSCALE:GREGORIAN
METHOD:PUBLISH
UID:412ccc41-b793-418d-8b50-07f4c064c3c6
X-WR-CALNAME:JCal Pro Calendar
X-WR-CALDESC:Your online events calendar
X-WR-TIMEZONE:UTC
BEGIN:VTIMEZONE
TZID:UTC
END:VTIMEZONE
BEGIN:VTIMEZONE
TZID:America/New_York
BEGIN:STANDARD
TZNAME:EST
DTSTART:20251102T020000
TZOFFSETFROM:-0400
TZOFFSETTO:-0500
RDATE:20261101T020000
END:STANDARD
BEGIN:DAYLIGHT
TZNAME:EDT
DTSTART:20260308T020000
TZOFFSETFROM:-0500
TZOFFSETTO:-0400
RDATE:20270314T020000
END:DAYLIGHT
END:VTIMEZONE
BEGIN:VEVENT
UID:hebcal-20230701-066cfa7f1a65b75a5611247ae073a78b-10001
DTSTAMP:20260422T132307Z
CATEGORIES:Jewish Calendar
DTSTART;TZID=America/New_York:20230701T212100
DTEND;TZID=America/New_York:20230701T212100
SUMMARY:Havdalah
URL:https://www.appleofhiseye.org/resources-2/jewish-calendar/month-view/41
 -jewish-calendar/1823-havdalah
END:VEVENT
BEGIN:VEVENT
UID:hebcal-20230706-42e340b773ec5cd3169088ba90bc5cef
DTSTAMP:20260422T132307Z
CATEGORIES:Jewish Calendar
DESCRIPTION:Fast commemorating breaching of the walls of Jerusalem before t
 he destruction of the Second Temple<br />\nTorah: Exodus 32:11-34:10<br />
 \n<br />\nhttps://www.hebcal.com/holidays/tzom-tammuz-2023?utm_source=js&u
 tm_medium=icalendar
DTSTART;TZID=America/New_York:20230705T200000
DTEND;TZID=America/New_York:20230706T200000
SUMMARY:Tzom Tammuz
URL:https://www.appleofhiseye.org/resources-2/jewish-calendar/month-view/41
 -jewish-calendar/1825-tzom-tammuz
X-ALT-DESC;FMTTYPE=TEXT/HTML:Fast commemorating breaching of the walls of J
 erusalem before the destruction of the Second Temple<br />\nTorah: Exodus 
 32:11-34:10<br />\n<br />\nhttps://www.hebcal.com/holidays/tzom-tammuz-202
 3?utm_source=js&utm_medium=icalendar
END:VEVENT
BEGIN:VEVENT
UID:hebcal-20230706-66273107d4ac6311a72221c89876d8f8-10001
DTSTAMP:20260422T132307Z
CATEGORIES:Jewish Calendar
DTSTART;TZID=America/New_York:20230706T034300
DTEND;TZID=America/New_York:20230706T034300
SUMMARY:Fast begins
URL:https://www.appleofhiseye.org/resources-2/jewish-calendar/month-view/41
 -jewish-calendar/1824-fast-begins
END:VEVENT
BEGIN:VEVENT
UID:hebcal-20230706-c57d64c812cd6e0ab69978b2b881e5b0-10001
DTSTAMP:20260422T132307Z
CATEGORIES:Jewish Calendar
DTSTART;TZID=America/New_York:20230706T211000
DTEND;TZID=America/New_York:20230706T211000
SUMMARY:Fast ends
URL:https://www.appleofhiseye.org/resources-2/jewish-calendar/month-view/41
 -jewish-calendar/1826-fast-ends
END:VEVENT
BEGIN:VEVENT
UID:hebcal-20230707-cac1aa4933d054b960677b3a4a2254b3-10001
DTSTAMP:20260422T132307Z
CATEGORIES:Jewish Calendar
DTSTART;TZID=America/New_York:20230707T201100
DTEND;TZID=America/New_York:20230707T201100
SUMMARY:Candle lighting
URL:https://www.appleofhiseye.org/resources-2/jewish-calendar/month-view/41
 -jewish-calendar/1827-candle-lighting
END:VEVENT
BEGIN:VEVENT
UID:hebcal-20230708-066cfa7f1a65b75a5611247ae073a78b-10001
DTSTAMP:20260422T132307Z
CATEGORIES:Jewish Calendar
DTSTART;TZID=America/New_York:20230708T211900
DTEND;TZID=America/New_York:20230708T211900
SUMMARY:Havdalah
URL:https://www.appleofhiseye.org/resources-2/jewish-calendar/month-view/41
 -jewish-calendar/1828-havdalah
END:VEVENT
BEGIN:VEVENT
UID:hebcal-20230714-cac1aa4933d054b960677b3a4a2254b3-10001
DTSTAMP:20260422T132307Z
CATEGORIES:Jewish Calendar
DTSTART;TZID=America/New_York:20230714T200800
DTEND;TZID=America/New_York:20230714T200800
SUMMARY:Candle lighting
URL:https://www.appleofhiseye.org/resources-2/jewish-calendar/month-view/41
 -jewish-calendar/1829-candle-lighting
END:VEVENT
BEGIN:VEVENT
UID:hebcal-20230715-066cfa7f1a65b75a5611247ae073a78b-10001
DTSTAMP:20260422T132307Z
CATEGORIES:Jewish Calendar
DTSTART;TZID=America/New_York:20230715T211500
DTEND;TZID=America/New_York:20230715T211500
SUMMARY:Havdalah
URL:https://www.appleofhiseye.org/resources-2/jewish-calendar/month-view/41
 -jewish-calendar/1830-havdalah
END:VEVENT
BEGIN:VEVENT
UID:hebcal-20230719-bb965bc17876a4f8edf7733637585f60
DTSTAMP:20260422T132307Z
CATEGORIES:Jewish Calendar
DESCRIPTION:Beginning of new Hebrew month of Av. Av is the 5th month of the
  Hebrew year. Corresponds to July or August on the Gregorian calendar<br /
 >\n<br />\nhttps://www.hebcal.com/holidays/rosh-chodesh-av-2023?utm_source
 =js&utm_medium=icalendar
DTSTART;TZID=America/New_York:20230718T200000
DTEND;TZID=America/New_York:20230719T200000
SUMMARY:Rosh Chodesh Av
URL:https://www.appleofhiseye.org/resources-2/jewish-calendar/month-view/41
 -jewish-calendar/1831-rosh-chodesh-av
X-ALT-DESC;FMTTYPE=TEXT/HTML:Beginning of new Hebrew month of Av. Av is the
  5th month of the Hebrew year. Corresponds to July or August on the Gregor
 ian calendar<br />\n<br />\nhttps://www.hebcal.com/holidays/rosh-chodesh-a
 v-2023?utm_source=js&utm_medium=icalendar
END:VEVENT
BEGIN:VEVENT
UID:hebcal-20230722-92426dec99d29332a1a4549480a86065
DTSTAMP:20260422T132307Z
CATEGORIES:Jewish Calendar
DESCRIPTION:Shabbat before Tish'a B'Av (Shabbat of Prophecy/Shabbat of Visi
 on)<br />\n<br />\nhttps://www.hebcal.com/holidays/shabbat-chazon-2023?utm
 _source=js&utm_medium=icalendar
DTSTART;TZID=America/New_York:20230721T200000
DTEND;TZID=America/New_York:20230722T200000
SUMMARY:Shabbat Chazon
URL:https://www.appleofhiseye.org/resources-2/jewish-calendar/month-view/41
 -jewish-calendar/1833-shabbat-chazon
X-ALT-DESC;FMTTYPE=TEXT/HTML:Shabbat before Tish'a B'Av (Shabbat of Prophec
 y/Shabbat of Vision)<br />\n<br />\nhttps://www.hebcal.com/holidays/shabba
 t-chazon-2023?utm_source=js&utm_medium=icalendar
END:VEVENT
BEGIN:VEVENT
UID:hebcal-20230721-cac1aa4933d054b960677b3a4a2254b3-10001
DTSTAMP:20260422T132307Z
CATEGORIES:Jewish Calendar
DTSTART;TZID=America/New_York:20230721T200400
DTEND;TZID=America/New_York:20230721T200400
SUMMARY:Candle lighting
URL:https://www.appleofhiseye.org/resources-2/jewish-calendar/month-view/41
 -jewish-calendar/1832-candle-lighting
END:VEVENT
BEGIN:VEVENT
UID:hebcal-20230722-066cfa7f1a65b75a5611247ae073a78b-10001
DTSTAMP:20260422T132307Z
CATEGORIES:Jewish Calendar
DTSTART;TZID=America/New_York:20230722T210900
DTEND;TZID=America/New_York:20230722T210900
SUMMARY:Havdalah
URL:https://www.appleofhiseye.org/resources-2/jewish-calendar/month-view/41
 -jewish-calendar/1834-havdalah
END:VEVENT
BEGIN:VEVENT
UID:hebcal-20230726-9e5bd50e2b4ddbda1d9f8e5e133468f1
DTSTAMP:20260422T132307Z
CATEGORIES:Jewish Calendar
DESCRIPTION:The Ninth of Av. Fast commemorating the destruction of the two 
 Temples<br />\n<br />\nhttps://www.hebcal.com/holidays/tisha-bav-2023?utm_
 source=js&utm_medium=icalendar
DTSTART;TZID=America/New_York:20230725T200000
DTEND;TZID=America/New_York:20230726T200000
SUMMARY:Erev Tish'a B'Av
URL:https://www.appleofhiseye.org/resources-2/jewish-calendar/month-view/41
 -jewish-calendar/1836-erev-tish-a-b-av
X-ALT-DESC;FMTTYPE=TEXT/HTML:The Ninth of Av. Fast commemorating the destru
 ction of the two Temples<br />\n<br />\nhttps://www.hebcal.com/holidays/ti
 sha-bav-2023?utm_source=js&utm_medium=icalendar
END:VEVENT
BEGIN:VEVENT
UID:hebcal-20230727-b80288f6aa9af53d3e6602a814aa29e3
DTSTAMP:20260422T132307Z
CATEGORIES:Jewish Calendar
DESCRIPTION:The Ninth of Av. Fast commemorating the destruction of the two 
 Temples<br />\nTorah: Deuteronomy 4:25-4:40<br />\nHaftarah: Jeremiah 8:13
  - 9:23<br />\n<br />\nhttps://www.hebcal.com/holidays/tisha-bav-2023?utm_
 source=js&utm_medium=icalendar
DTSTART;TZID=America/New_York:20230726T200000
DTEND;TZID=America/New_York:20230727T200000
SUMMARY:Tish'a B'Av
URL:https://www.appleofhiseye.org/resources-2/jewish-calendar/month-view/41
 -jewish-calendar/1837-tish-a-b-av
X-ALT-DESC;FMTTYPE=TEXT/HTML:The Ninth of Av. Fast commemorating the destru
 ction of the two Temples<br />\nTorah: Deuteronomy 4:25-4:40<br />\nHaftar
 ah: Jeremiah 8:13 - 9:23<br />\n<br />\nhttps://www.hebcal.com/holidays/ti
 sha-bav-2023?utm_source=js&utm_medium=icalendar
END:VEVENT
BEGIN:VEVENT
UID:hebcal-20230726-66273107d4ac6311a72221c89876d8f8-10001
DTSTAMP:20260422T132307Z
CATEGORIES:Jewish Calendar
DTSTART;TZID=America/New_York:20230726T201700
DTEND;TZID=America/New_York:20230726T201700
SUMMARY:Fast begins
URL:https://www.appleofhiseye.org/resources-2/jewish-calendar/month-view/41
 -jewish-calendar/1835-fast-begins
END:VEVENT
BEGIN:VEVENT
UID:hebcal-20230727-c57d64c812cd6e0ab69978b2b881e5b0-10001
DTSTAMP:20260422T132307Z
CATEGORIES:Jewish Calendar
DTSTART;TZID=America/New_York:20230727T205400
DTEND;TZID=America/New_York:20230727T205400
SUMMARY:Fast ends
URL:https://www.appleofhiseye.org/resources-2/jewish-calendar/month-view/41
 -jewish-calendar/1838-fast-ends
END:VEVENT
BEGIN:VEVENT
UID:hebcal-20230728-cac1aa4933d054b960677b3a4a2254b3-10001
DTSTAMP:20260422T132307Z
CATEGORIES:Jewish Calendar
DTSTART;TZID=America/New_York:20230728T195700
DTEND;TZID=America/New_York:20230728T195700
SUMMARY:Candle lighting
URL:https://www.appleofhiseye.org/resources-2/jewish-calendar/month-view/41
 -jewish-calendar/1839-candle-lighting
END:VEVENT
BEGIN:VEVENT
UID:hebcal-20230729-758e678abea15d1bdcf41406dec76e17
DTSTAMP:20260422T132307Z
CATEGORIES:Jewish Calendar
DESCRIPTION:Shabbat after Tish'a B'Av (Shabbat of Consolation). The first o
 f seven Shabbatot leading up to Rosh Hashanah. Named after the Haftarah (f
 rom Isaiah 40) which begins with the verse נַחֲמוּ נַחֲמוּ\, עַמִּי ('Comf
 ort\, oh comfort my people')<br />\nHaftarah: Isaiah 40:1 - 40:26<br />\n<
 br />\nhttps://www.hebcal.com/holidays/shabbat-nachamu-2023?utm_source=js&
 utm_medium=icalendar
DTSTART;TZID=America/New_York:20230728T200000
DTEND;TZID=America/New_York:20230729T200000
SUMMARY:Shabbat Nachamu
URL:https://www.appleofhiseye.org/resources-2/jewish-calendar/month-view/41
 -jewish-calendar/1840-shabbat-nachamu
X-ALT-DESC;FMTTYPE=TEXT/HTML:Shabbat after Tish'a B'Av (Shabbat of Consolat
 ion). The first of seven Shabbatot leading up to Rosh Hashanah. Named afte
 r the Haftarah (from Isaiah 40) which begins with the verse נַחֲמוּ נַחֲמו
 ּ\, עַמִּי ('Comfort\, oh comfort my people')<br />\nHaftarah: Isaiah 40:1
  - 40:26<br />\n<br />\nhttps://www.hebcal.com/holidays/shabbat-nachamu-20
 23?utm_source=js&utm_medium=icalendar
END:VEVENT
BEGIN:VEVENT
UID:hebcal-20230729-066cfa7f1a65b75a5611247ae073a78b-10001
DTSTAMP:20260422T132307Z
CATEGORIES:Jewish Calendar
DTSTART;TZID=America/New_York:20230729T210100
DTEND;TZID=America/New_York:20230729T210100
SUMMARY:Havdalah
URL:https://www.appleofhiseye.org/resources-2/jewish-calendar/month-view/41
 -jewish-calendar/1841-havdalah
END:VEVENT
END:VCALENDAR
