BEGIN:VCALENDAR
VERSION:2.0
PRODID:-//https://www.appleofhiseye.org//NONSGML kigkonsult.se iCalcreator 
 2.29.29//
CALSCALE:GREGORIAN
METHOD:PUBLISH
UID:6ff82791-2c5b-4a72-a97a-86b1c1b28e90
X-WR-CALNAME:JCal Pro Calendar
X-WR-CALDESC:Your online events calendar
X-WR-TIMEZONE:UTC
BEGIN:VTIMEZONE
TZID:UTC
END:VTIMEZONE
BEGIN:VTIMEZONE
TZID:America/New_York
BEGIN:STANDARD
TZNAME:EST
DTSTART:20251102T020000
TZOFFSETFROM:-0400
TZOFFSETTO:-0500
RDATE:20261101T020000
END:STANDARD
BEGIN:DAYLIGHT
TZNAME:EDT
DTSTART:20260308T020000
TZOFFSETFROM:-0500
TZOFFSETTO:-0400
RDATE:20270314T020000
END:DAYLIGHT
END:VTIMEZONE
BEGIN:VEVENT
UID:hebcal-20200524-67988b8d7dc0a4c1b2efb3224a3439a0
DTSTAMP:20260422T091452Z
CATEGORIES:Jewish Calendar
DESCRIPTION:Beginning of new Hebrew month of Sivan. Sivan is the 3rd month 
 of the Hebrew year. Corresponds to May or June on the Gregorian calendar<b
 r />\n<br />\nhttps://www.hebcal.com/holidays/rosh-chodesh-sivan-2020?utm_
 source=js&utm_medium=icalendar
DTSTART;TZID=America/New_York:20200523T200000
DTEND;TZID=America/New_York:20200524T200000
SUMMARY:Rosh Chodesh Sivan
URL:https://www.appleofhiseye.org/resources/jewish-calendar/month-view/41-j
 ewish-calendar/1195-rosh-chodesh-sivan
X-ALT-DESC;FMTTYPE=TEXT/HTML:Beginning of new Hebrew month of Sivan. Sivan 
 is the 3rd month of the Hebrew year. Corresponds to May or June on the Gre
 gorian calendar<br />\n<br />\nhttps://www.hebcal.com/holidays/rosh-chodes
 h-sivan-2020?utm_source=js&utm_medium=icalendar
END:VEVENT
END:VCALENDAR
