BEGIN:VCALENDAR
VERSION:2.0
PRODID:-//https://www.appleofhiseye.org//NONSGML kigkonsult.se iCalcreator 
 2.29.29//
CALSCALE:GREGORIAN
METHOD:PUBLISH
UID:1d99d156-16e6-469a-a677-7924977e7717
X-WR-CALNAME:JCal Pro Calendar
X-WR-CALDESC:Your online events calendar
X-WR-TIMEZONE:UTC
BEGIN:VTIMEZONE
TZID:UTC
END:VTIMEZONE
BEGIN:VTIMEZONE
TZID:America/New_York
BEGIN:STANDARD
TZNAME:EST
DTSTART:20251102T020000
TZOFFSETFROM:-0400
TZOFFSETTO:-0500
RDATE:20261101T020000
END:STANDARD
BEGIN:DAYLIGHT
TZNAME:EDT
DTSTART:20260308T020000
TZOFFSETFROM:-0500
TZOFFSETTO:-0400
RDATE:20270314T020000
END:DAYLIGHT
END:VTIMEZONE
BEGIN:VEVENT
UID:hebcal-20201019-340a76f6a26ffdf68aecfde5f06feef9
DTSTAMP:20260424T080730Z
CATEGORIES:Jewish Calendar
DESCRIPTION:Beginning of new Hebrew month of Cheshvan. Cheshvan is the 8th 
 month of the Hebrew year. Corresponds to October or November on the Gregor
 ian calendar<br />\n<br />\nhttps://www.hebcal.com/holidays/rosh-chodesh-c
 heshvan-2020?utm_source=js&utm_medium=icalendar
DTSTART;TZID=America/New_York:20201018T200000
DTEND;TZID=America/New_York:20201019T200000
SUMMARY:Rosh Chodesh Cheshvan
URL:https://www.appleofhiseye.org/resources/jewish-calendar/month-view/41-j
 ewish-calendar/1258-rosh-chodesh-cheshvan
X-ALT-DESC;FMTTYPE=TEXT/HTML:Beginning of new Hebrew month of Cheshvan. Che
 shvan is the 8th month of the Hebrew year. Corresponds to October or Novem
 ber on the Gregorian calendar<br />\n<br />\nhttps://www.hebcal.com/holida
 ys/rosh-chodesh-cheshvan-2020?utm_source=js&utm_medium=icalendar
END:VEVENT
END:VCALENDAR
