BEGIN:VCALENDAR
VERSION:2.0
PRODID:-//https://www.appleofhiseye.org//NONSGML kigkonsult.se iCalcreator 
 2.29.29//
CALSCALE:GREGORIAN
METHOD:PUBLISH
UID:beca007e-b4e8-47e8-a4a8-52faf22f0237
X-WR-CALNAME:JCal Pro Calendar
X-WR-CALDESC:Your online events calendar
X-WR-TIMEZONE:UTC
BEGIN:VTIMEZONE
TZID:UTC
END:VTIMEZONE
BEGIN:VTIMEZONE
TZID:America/New_York
BEGIN:STANDARD
TZNAME:EST
DTSTART:20251102T020000
TZOFFSETFROM:-0400
TZOFFSETTO:-0500
RDATE:20261101T020000
END:STANDARD
BEGIN:DAYLIGHT
TZNAME:EDT
DTSTART:20260308T020000
TZOFFSETFROM:-0500
TZOFFSETTO:-0400
RDATE:20270314T020000
END:DAYLIGHT
END:VTIMEZONE
BEGIN:VEVENT
UID:hebcal-20210225-0ab3f6b11c0e368f53763117582d3c52
DTSTAMP:20260424T075541Z
CATEGORIES:Jewish Calendar
DESCRIPTION:Celebration of Jewish deliverance as told by Megilat Esther. It
  commemorates a time when the Jewish people living in Persia were saved fr
 om extermination<br />\n<br />\nhttps://www.hebcal.com/holidays/purim-2021
 ?utm_source=js&utm_medium=icalendar
DTSTART;TZID=America/New_York:20210224T190000
DTEND;TZID=America/New_York:20210225T190000
SUMMARY:Erev Purim
URL:https://www.appleofhiseye.org/resources/jewish-calendar/month-view/41-j
 ewish-calendar/1317-erev-purim
X-ALT-DESC;FMTTYPE=TEXT/HTML:Celebration of Jewish deliverance as told by M
 egilat Esther. It commemorates a time when the Jewish people living in Per
 sia were saved from extermination<br />\n<br />\nhttps://www.hebcal.com/ho
 lidays/purim-2021?utm_source=js&utm_medium=icalendar
END:VEVENT
END:VCALENDAR
