BEGIN:VCALENDAR
VERSION:2.0
PRODID:-//https://www.appleofhiseye.org//NONSGML kigkonsult.se iCalcreator 
 2.29.29//
CALSCALE:GREGORIAN
METHOD:PUBLISH
UID:275e9112-c410-4aec-9550-101057fc3fd0
X-WR-CALNAME:JCal Pro Calendar
X-WR-CALDESC:Your online events calendar
X-WR-TIMEZONE:UTC
BEGIN:VTIMEZONE
TZID:UTC
END:VTIMEZONE
BEGIN:VTIMEZONE
TZID:America/New_York
BEGIN:STANDARD
TZNAME:EST
DTSTART:20251102T020000
TZOFFSETFROM:-0400
TZOFFSETTO:-0500
RDATE:20261101T020000
END:STANDARD
BEGIN:DAYLIGHT
TZNAME:EDT
DTSTART:20260308T020000
TZOFFSETFROM:-0500
TZOFFSETTO:-0400
RDATE:20270314T020000
END:DAYLIGHT
END:VTIMEZONE
BEGIN:VEVENT
UID:hebcal-20200310-2d2f953ea88dce316bd3b19fb2b768d9
DTSTAMP:20260422T090614Z
CATEGORIES:Jewish Calendar
DESCRIPTION:Celebration of Jewish deliverance as told by Megilat Esther. It
  commemorates a time when the Jewish people living in Persia were saved fr
 om extermination<br />\nTorah: Exodus 17:8-17:16<br />\n<br />\nhttps://ww
 w.hebcal.com/holidays/purim-2020?utm_source=js&utm_medium=icalendar
DTSTART;TZID=America/New_York:20200309T200000
DTEND;TZID=America/New_York:20200310T200000
SUMMARY:Purim
URL:https://www.appleofhiseye.org/resources/jewish-calendar/month-view/41-j
 ewish-calendar/137-purim
X-ALT-DESC;FMTTYPE=TEXT/HTML:Celebration of Jewish deliverance as told by M
 egilat Esther. It commemorates a time when the Jewish people living in Per
 sia were saved from extermination<br />\nTorah: Exodus 17:8-17:16<br />\n<
 br />\nhttps://www.hebcal.com/holidays/purim-2020?utm_source=js&utm_medium
 =icalendar
END:VEVENT
END:VCALENDAR
