BEGIN:VCALENDAR
VERSION:2.0
PRODID:-//https://www.appleofhiseye.org//NONSGML kigkonsult.se iCalcreator 
 2.29.29//
CALSCALE:GREGORIAN
METHOD:PUBLISH
UID:18fc60b8-51d4-4b88-8f44-d6a3e2b0bece
X-WR-CALNAME:JCal Pro Calendar
X-WR-CALDESC:Your online events calendar
X-WR-TIMEZONE:UTC
BEGIN:VTIMEZONE
TZID:UTC
END:VTIMEZONE
BEGIN:VTIMEZONE
TZID:America/New_York
BEGIN:STANDARD
TZNAME:EST
DTSTART:20251102T020000
TZOFFSETFROM:-0400
TZOFFSETTO:-0500
RDATE:20261101T020000
END:STANDARD
BEGIN:DAYLIGHT
TZNAME:EDT
DTSTART:20260308T020000
TZOFFSETFROM:-0500
TZOFFSETTO:-0400
RDATE:20270314T020000
END:DAYLIGHT
END:VTIMEZONE
BEGIN:VEVENT
UID:hebcal-20200413-62a02aad8874f4b8b6d9fb8bb937cc8d
DTSTAMP:20260422T131120Z
CATEGORIES:Jewish Calendar
DESCRIPTION:Passover\, the Feast of Unleavened Bread. Also called Chag HaMa
 tzot (the Festival of Matzah)\, it commemorates the Exodus and freedom of 
 the Israelites from ancient Egypt<br />\nTorah: Exodus 34:1-34:26<br />\n<
 br />\nhttps://www.hebcal.com/holidays/pesach-2020?utm_source=js&utm_mediu
 m=icalendar
DTSTART;TZID=America/New_York:20200412T200000
DTEND;TZID=America/New_York:20200413T200000
SUMMARY:Pesach V (CH''M)
URL:https://www.appleofhiseye.org/resources/jewish-calendar/month-view/41-j
 ewish-calendar/144-pesach-v-ch-m
X-ALT-DESC;FMTTYPE=TEXT/HTML:Passover\, the Feast of Unleavened Bread. Also
  called Chag HaMatzot (the Festival of Matzah)\, it commemorates the Exodu
 s and freedom of the Israelites from ancient Egypt<br />\nTorah: Exodus 34
 :1-34:26<br />\n<br />\nhttps://www.hebcal.com/holidays/pesach-2020?utm_so
 urce=js&utm_medium=icalendar
END:VEVENT
END:VCALENDAR
