BEGIN:VCALENDAR
VERSION:2.0
PRODID:-//https://www.appleofhiseye.org//NONSGML kigkonsult.se iCalcreator 
 2.29.29//
CALSCALE:GREGORIAN
METHOD:PUBLISH
UID:52d40162-6ea6-4ac4-82d7-9c5ea16a3578
X-WR-CALNAME:JCal Pro Calendar
X-WR-CALDESC:Your online events calendar
X-WR-TIMEZONE:UTC
BEGIN:VTIMEZONE
TZID:UTC
END:VTIMEZONE
BEGIN:VTIMEZONE
TZID:America/New_York
BEGIN:STANDARD
TZNAME:EST
DTSTART:20251102T020000
TZOFFSETFROM:-0400
TZOFFSETTO:-0500
RDATE:20261101T020000
END:STANDARD
BEGIN:DAYLIGHT
TZNAME:EDT
DTSTART:20260308T020000
TZOFFSETFROM:-0500
TZOFFSETTO:-0400
RDATE:20270314T020000
END:DAYLIGHT
END:VTIMEZONE
BEGIN:VEVENT
UID:hebcal-20220604-92fb237371295607b152371f548ef03b
DTSTAMP:20260422T090405Z
CATEGORIES:Jewish Calendar
DESCRIPTION:Festival of Weeks. Commemorates the giving of the Torah at Moun
 t Sinai<br />\n<br />\nhttps://www.hebcal.com/holidays/shavuot-2022?utm_so
 urce=js&utm_medium=icalendar
DTSTART;TZID=America/New_York:20220603T200000
DTEND;TZID=America/New_York:20220604T200000
SUMMARY:Erev Shavuot
URL:https://www.appleofhiseye.org/resources/jewish-calendar/month-view/41-j
 ewish-calendar/1593-erev-shavuot
X-ALT-DESC;FMTTYPE=TEXT/HTML:Festival of Weeks. Commemorates the giving of 
 the Torah at Mount Sinai<br />\n<br />\nhttps://www.hebcal.com/holidays/sh
 avuot-2022?utm_source=js&utm_medium=icalendar
END:VEVENT
END:VCALENDAR
