BEGIN:VCALENDAR
VERSION:2.0
PRODID:-//https://www.appleofhiseye.org//NONSGML kigkonsult.se iCalcreator 
 2.29.29//
CALSCALE:GREGORIAN
METHOD:PUBLISH
UID:abb1e13f-f382-4e92-9a5d-681d2c49ad01
X-WR-CALNAME:JCal Pro Calendar
X-WR-CALDESC:Your online events calendar
X-WR-TIMEZONE:UTC
BEGIN:VTIMEZONE
TZID:UTC
END:VTIMEZONE
BEGIN:VTIMEZONE
TZID:America/New_York
BEGIN:STANDARD
TZNAME:EST
DTSTART:20251102T020000
TZOFFSETFROM:-0400
TZOFFSETTO:-0500
RDATE:20261101T020000
END:STANDARD
BEGIN:DAYLIGHT
TZNAME:EDT
DTSTART:20260308T020000
TZOFFSETFROM:-0500
TZOFFSETTO:-0400
RDATE:20270314T020000
END:DAYLIGHT
END:VTIMEZONE
BEGIN:VEVENT
UID:hebcal-20220806-92426dec99d29332a1a4549480a86065
DTSTAMP:20260422T143514Z
CATEGORIES:Jewish Calendar
DESCRIPTION:Shabbat before Tish'a B'Av (Shabbat of Prophecy/Shabbat of Visi
 on)<br />\n<br />\nhttps://www.hebcal.com/holidays/shabbat-chazon-2022?utm
 _source=js&utm_medium=icalendar
DTSTART;TZID=America/New_York:20220805T200000
DTEND;TZID=America/New_York:20220806T200000
SUMMARY:Shabbat Chazon
URL:https://www.appleofhiseye.org/resources/jewish-calendar/month-view/41-j
 ewish-calendar/1622-shabbat-chazon
X-ALT-DESC;FMTTYPE=TEXT/HTML:Shabbat before Tish'a B'Av (Shabbat of Prophec
 y/Shabbat of Vision)<br />\n<br />\nhttps://www.hebcal.com/holidays/shabba
 t-chazon-2022?utm_source=js&utm_medium=icalendar
END:VEVENT
END:VCALENDAR
