BEGIN:VCALENDAR
VERSION:2.0
PRODID:-//https://www.appleofhiseye.org//NONSGML kigkonsult.se iCalcreator 
 2.29.29//
CALSCALE:GREGORIAN
METHOD:PUBLISH
UID:102a3047-5d8e-412b-b880-4b799837cfc0
X-WR-CALNAME:JCal Pro Calendar
X-WR-CALDESC:Your online events calendar
X-WR-TIMEZONE:UTC
BEGIN:VTIMEZONE
TZID:UTC
END:VTIMEZONE
BEGIN:VTIMEZONE
TZID:America/New_York
BEGIN:STANDARD
TZNAME:EST
DTSTART:20251102T020000
TZOFFSETFROM:-0400
TZOFFSETTO:-0500
RDATE:20261101T020000
END:STANDARD
BEGIN:DAYLIGHT
TZNAME:EDT
DTSTART:20260308T020000
TZOFFSETFROM:-0500
TZOFFSETTO:-0400
RDATE:20270314T020000
END:DAYLIGHT
END:VTIMEZONE
BEGIN:VEVENT
UID:hebcal-20221012-77d0901fd0f84a3199b95bd6f58fe4ca
DTSTAMP:20260422T104744Z
CATEGORIES:Jewish Calendar
DESCRIPTION:Feast of Booths<br />\nTorah: Numbers 29:17-29:25<br />\n<br />
 \nhttps://www.hebcal.com/holidays/sukkot-2022?utm_source=js&utm_medium=ica
 lendar
DTSTART;TZID=America/New_York:20221011T200000
DTEND;TZID=America/New_York:20221012T200000
SUMMARY:Sukkot III (CH''M)
URL:https://www.appleofhiseye.org/resources/jewish-calendar/month-view/41-j
 ewish-calendar/1671-sukkot-iii-ch-m
X-ALT-DESC;FMTTYPE=TEXT/HTML:Feast of Booths<br />\nTorah: Numbers 29:17-29
 :25<br />\n<br />\nhttps://www.hebcal.com/holidays/sukkot-2022?utm_source=
 js&utm_medium=icalendar
END:VEVENT
END:VCALENDAR
