BEGIN:VCALENDAR
VERSION:2.0
PRODID:-//https://www.appleofhiseye.org//NONSGML kigkonsult.se iCalcreator 
 2.29.29//
CALSCALE:GREGORIAN
METHOD:PUBLISH
UID:29495c5d-957d-4763-9123-4b5c1d420f16
X-WR-CALNAME:JCal Pro Calendar
X-WR-CALDESC:Your online events calendar
X-WR-TIMEZONE:UTC
BEGIN:VTIMEZONE
TZID:UTC
END:VTIMEZONE
BEGIN:VTIMEZONE
TZID:America/New_York
BEGIN:STANDARD
TZNAME:EST
DTSTART:20251102T020000
TZOFFSETFROM:-0400
TZOFFSETTO:-0500
RDATE:20261101T020000
END:STANDARD
BEGIN:DAYLIGHT
TZNAME:EDT
DTSTART:20260308T020000
TZOFFSETFROM:-0500
TZOFFSETTO:-0400
RDATE:20270314T020000
END:DAYLIGHT
END:VTIMEZONE
BEGIN:VEVENT
UID:hebcal-20221220-836ce4e8422bc1fdf1366a07058a699a-10001
DTSTAMP:20260422T104737Z
CATEGORIES:Jewish Calendar
DESCRIPTION:Hanukkah\, the Jewish festival of rededication. Also known as t
 he Festival of Lights<br />\nTorah: Numbers 7:18-7:29<br />\n<br />\nhttps
 ://www.hebcal.com/holidays/chanukah-2022?utm_source=js&utm_medium=icalenda
 r
DTSTART;TZID=America/New_York:20221220T171700
DTEND;TZID=America/New_York:20221220T171700
SUMMARY:Chanukah: 3 Candles
URL:https://www.appleofhiseye.org/resources/jewish-calendar/month-view/41-j
 ewish-calendar/1709-chanukah-3-candles
X-ALT-DESC;FMTTYPE=TEXT/HTML:Hanukkah\, the Jewish festival of rededication
 . Also known as the Festival of Lights<br />\nTorah: Numbers 7:18-7:29<br 
 />\n<br />\nhttps://www.hebcal.com/holidays/chanukah-2022?utm_source=js&ut
 m_medium=icalendar
END:VEVENT
END:VCALENDAR
