BEGIN:VCALENDAR
VERSION:2.0
PRODID:-//https://www.appleofhiseye.org//NONSGML kigkonsult.se iCalcreator 
 2.29.29//
CALSCALE:GREGORIAN
METHOD:PUBLISH
UID:7ed9821b-8415-4929-a084-50af14c36da8
X-WR-CALNAME:JCal Pro Calendar
X-WR-CALDESC:Your online events calendar
X-WR-TIMEZONE:UTC
BEGIN:VTIMEZONE
TZID:UTC
END:VTIMEZONE
BEGIN:VTIMEZONE
TZID:America/New_York
BEGIN:STANDARD
TZNAME:EST
DTSTART:20251102T020000
TZOFFSETFROM:-0400
TZOFFSETTO:-0500
RDATE:20261101T020000
END:STANDARD
BEGIN:DAYLIGHT
TZNAME:EDT
DTSTART:20260308T020000
TZOFFSETFROM:-0500
TZOFFSETTO:-0400
RDATE:20270314T020000
END:DAYLIGHT
END:VTIMEZONE
BEGIN:VEVENT
UID:hebcal-20230218-f6d79c3107a8016e4aed0cffd28dd477
DTSTAMP:20260422T134419Z
CATEGORIES:Jewish Calendar
DESCRIPTION:Shabbat before Rosh Chodesh Adar<br />\nHaftarah: II Kings 12:1
  - 12:17<br />\n<br />\nhttps://www.hebcal.com/holidays/shabbat-shekalim-2
 023?utm_source=js&utm_medium=icalendar
DTSTART;TZID=America/New_York:20230217T190000
DTEND;TZID=America/New_York:20230218T190000
SUMMARY:Shabbat Shekalim
URL:https://www.appleofhiseye.org/resources/jewish-calendar/month-view/41-j
 ewish-calendar/1740-shabbat-shekalim
X-ALT-DESC;FMTTYPE=TEXT/HTML:Shabbat before Rosh Chodesh Adar<br />\nHaftar
 ah: II Kings 12:1 - 12:17<br />\n<br />\nhttps://www.hebcal.com/holidays/s
 habbat-shekalim-2023?utm_source=js&utm_medium=icalendar
END:VEVENT
END:VCALENDAR
