BEGIN:VCALENDAR
VERSION:2.0
PRODID:-//https://www.appleofhiseye.org//NONSGML kigkonsult.se iCalcreator 
 2.29.29//
CALSCALE:GREGORIAN
METHOD:PUBLISH
UID:4e3059e9-e515-495b-bc1b-ad34e426ea8b
X-WR-CALNAME:JCal Pro Calendar
X-WR-CALDESC:Your online events calendar
X-WR-TIMEZONE:UTC
BEGIN:VTIMEZONE
TZID:UTC
END:VTIMEZONE
BEGIN:VTIMEZONE
TZID:America/New_York
BEGIN:STANDARD
TZNAME:EST
DTSTART:20251102T020000
TZOFFSETFROM:-0400
TZOFFSETTO:-0500
RDATE:20261101T020000
END:STANDARD
BEGIN:DAYLIGHT
TZNAME:EDT
DTSTART:20260308T020000
TZOFFSETFROM:-0500
TZOFFSETTO:-0400
RDATE:20270314T020000
END:DAYLIGHT
END:VTIMEZONE
BEGIN:VEVENT
UID:hebcal-20201025-6391eb908c85ee7f08d9a527812e969a
DTSTAMP:20260424T075829Z
CATEGORIES:Jewish Calendar
DESCRIPTION:Recognizes Aliyah\, immigration to the Jewish State of Israel<b
 r />\n<br />\nhttps://www.hebcal.com/holidays/yom-haaliyah-2020?utm_source
 =js&utm_medium=icalendar
DTSTART;TZID=America/New_York:20201024T200000
DTEND;TZID=America/New_York:20201025T200000
SUMMARY:Yom HaAliyah
URL:https://www.appleofhiseye.org/resources/jewish-calendar/month-view/41-j
 ewish-calendar/176-yom-haaliyah
X-ALT-DESC;FMTTYPE=TEXT/HTML:Recognizes Aliyah\, immigration to the Jewish 
 State of Israel<br />\n<br />\nhttps://www.hebcal.com/holidays/yom-haaliya
 h-2020?utm_source=js&utm_medium=icalendar
END:VEVENT
END:VCALENDAR
